BEGIN:VCALENDAR
VERSION:2.0
PRODID:-//Oregon Family School - ECPv6.15.3//NONSGML v1.0//EN
CALSCALE:GREGORIAN
METHOD:PUBLISH
X-ORIGINAL-URL:https://oregonfamilyschool.com
X-WR-CALDESC:Events for Oregon Family School
REFRESH-INTERVAL;VALUE=DURATION:PT1H
X-Robots-Tag:noindex
X-PUBLISHED-TTL:PT1H
BEGIN:VTIMEZONE
TZID:UTC
BEGIN:STANDARD
TZOFFSETFROM:+0000
TZOFFSETTO:+0000
TZNAME:UTC
DTSTART:20210101T000000
END:STANDARD
END:VTIMEZONE
BEGIN:VEVENT
DTSTART;VALUE=DATE:20210908
DTEND;VALUE=DATE:20210911
DTSTAMP:20260423T161450
CREATED:20210816T171202Z
LAST-MODIFIED:20210816T171202Z
UID:16112-1631059200-1631318399@oregonfamilyschool.com
SUMMARY:Virtual Back to School Event
DESCRIPTION:
URL:https://oregonfamilyschool.com/event/virtual-back-to-school-event/
END:VEVENT
BEGIN:VEVENT
DTSTART;TZID=UTC:20210522T100000
DTEND;TZID=UTC:20210522T160000
DTSTAMP:20260423T161450
CREATED:20210513T202433Z
LAST-MODIFIED:20210513T202952Z
UID:16013-1621677600-1621699200@oregonfamilyschool.com
SUMMARY:OFS Greenhouse Plant Sale
DESCRIPTION:Check out our website HERE! \nThe high school CTE class at OFS has been working hard on a year long project of turning our school greenhouse into a business and we are in the home stretch! Our business is called Something Green and the grand opening is May 22. Naturally\, we wanted to extend an invitation to you! We have spent the year researching\, planting\, growing\, and creating. For the sale at our greenhouse\, you can find a wide range of plants to get your garden going this Spring such as peppers\, tomatoes\, peas\, lettuce\, cucumber\, zucchini\, rosemary\, basil\, and many more! We have also created T-shirts\, tote bags and and one of a kind art pieces. \n\nHere is some important info\, and mark your calendar: \nWhen – May 22\, 2021 \nWhat time – 10am – 4pm \nWhere –  The greenhouse on the Bend campus  21550 NE Butler Market Rd\, Bend\, OR 97701 (please be sure to park near The Shop or blue house) \n\nWe would love to see you there!
URL:https://oregonfamilyschool.com/event/ofs-greenhouse-plant-sale/
END:VEVENT
BEGIN:VEVENT
DTSTART;TZID=UTC:20210504T183000
DTEND;TZID=UTC:20210504T183000
DTSTAMP:20260423T161450
CREATED:20210422T211745Z
LAST-MODIFIED:20210422T211745Z
UID:15998-1620153000-1620153000@oregonfamilyschool.com
SUMMARY:COCC Information Meeting
DESCRIPTION:
URL:https://oregonfamilyschool.com/event/cocc-information-meeting/
END:VEVENT
BEGIN:VEVENT
DTSTART;TZID=UTC:20210503T140000
DTEND;TZID=UTC:20210503T140000
DTSTAMP:20260423T161450
CREATED:20210331T193050Z
LAST-MODIFIED:20210331T193050Z
UID:15957-1620050400-1620050400@oregonfamilyschool.com
SUMMARY:Cultivating Language Arts: Preschool through High School 
DESCRIPTION:Listening and reading well\, speaking and writing clearly\, thinking and debating effectively are abilities that most parents hope to cultivate in their children. With that goal in mind\, Andrew Pudewa will explore various environments and activities which will accelerate the development of these language skills\, beginning with the youngest students and continuing into the high school years. Also\, we are recording this session which we will make available to you after the event! If you are unable to attend live\, simply register and watch the recording at your convenience! You can use the following link to register.\nhttp://excellenceinwriting.adobeconnect.com/cla-orfamschool-2021/event/registration.html
URL:https://oregonfamilyschool.com/event/cultivating-language-arts-preschool-through-high-school/
END:VEVENT
BEGIN:VEVENT
DTSTART;TZID=UTC:20210413T063000
DTEND;TZID=UTC:20210413T063000
DTSTAMP:20260423T161450
CREATED:20210331T201423Z
LAST-MODIFIED:20210331T201423Z
UID:15972-1618295400-1618295400@oregonfamilyschool.com
SUMMARY:High School Information Meeting
DESCRIPTION:This meeting is intended for incoming freshmen\, newly enrolled students\, and families that are considering the high school program at OFS. To sign up and receive login information contact Laura Hildebrandt at laura.hildebrandt@oregonfamilyschool.com.
URL:https://oregonfamilyschool.com/event/high-school-information-meeting/
END:VEVENT
BEGIN:VEVENT
DTSTART;TZID=UTC:20210406T183000
DTEND;TZID=UTC:20210406T193000
DTSTAMP:20260423T161450
CREATED:20210331T201000Z
LAST-MODIFIED:20210331T201502Z
UID:15968-1617733800-1617737400@oregonfamilyschool.com
SUMMARY:K-8 Zoom Information Meeting
DESCRIPTION:This meeting is intended for new & prospective 21/22 families. To sign up and receive login information contact Laura Hildebrandt at laura.hildebrandt@oregonfamilyschool.com
URL:https://oregonfamilyschool.com/event/k-8-zoom-information-meeting/
END:VEVENT
END:VCALENDAR